BEGIN:VCALENDAR
VERSION:2.0
PRODID:-//Waterloo Watercolor Group - ECPv6.15.20//NONSGML v1.0//EN
CALSCALE:GREGORIAN
METHOD:PUBLISH
X-ORIGINAL-URL:https://waterloowatercolor.org
X-WR-CALDESC:Events for Waterloo Watercolor Group
REFRESH-INTERVAL;VALUE=DURATION:PT1H
X-Robots-Tag:noindex
X-PUBLISHED-TTL:PT1H
BEGIN:VTIMEZONE
TZID:UTC
BEGIN:STANDARD
TZOFFSETFROM:+0000
TZOFFSETTO:+0000
TZNAME:UTC
DTSTART:20240101T000000
END:STANDARD
END:VTIMEZONE
BEGIN:VEVENT
DTSTART;TZID=UTC:20250201T100000
DTEND;TZID=UTC:20250201T120000
DTSTAMP:20260421T174844
CREATED:20241229T235256Z
LAST-MODIFIED:20250113T212220Z
UID:5510-1738404000-1738411200@waterloowatercolor.org
SUMMARY:Board Meeting - February
DESCRIPTION:Monthly board meeting at St. Matthews. \n\n\n\n\n\n\n\nLocation\n\n\n\n\n\n\n\n\n\nThis event is open to everyone. \n\n\n\nAny Questions?\n\n\n\nPlease email the WWG President
URL:https://waterloowatercolor.org/event/board-meeting-february/
LOCATION:St. Matthews Episcopal Church\, 8134 Mesa Dr.\, Austin\, Texas\, 78759\, United States
CATEGORIES:Meetings and Activities
ATTACH;FMTTYPE=image/png:https://waterloowatercolor.org/wp-content/uploads/2023/03/WWG_Logo.png
ORGANIZER;CN="Rashmi Thakur (President)":MAILTO:president@waterloowatercolor.org
END:VEVENT
END:VCALENDAR