BEGIN:VCALENDAR
VERSION:2.0
PRODID:-//Waterloo Watercolor Group - ECPv6.15.20//NONSGML v1.0//EN
CALSCALE:GREGORIAN
METHOD:PUBLISH
X-ORIGINAL-URL:https://waterloowatercolor.org
X-WR-CALDESC:Events for Waterloo Watercolor Group
REFRESH-INTERVAL;VALUE=DURATION:PT1H
X-Robots-Tag:noindex
X-PUBLISHED-TTL:PT1H
BEGIN:VTIMEZONE
TZID:UTC
BEGIN:STANDARD
TZOFFSETFROM:+0000
TZOFFSETTO:+0000
TZNAME:UTC
DTSTART:20240101T000000
END:STANDARD
END:VTIMEZONE
BEGIN:VEVENT
DTSTART;TZID=UTC:20250208T093000
DTEND;TZID=UTC:20250208T113000
DTSTAMP:20260421T174844
CREATED:20241229T233515Z
LAST-MODIFIED:20241230T000231Z
UID:5503-1739007000-1739014200@waterloowatercolor.org
SUMMARY:Bookworms: The Art of Rivalry book discussion (one morning)
DESCRIPTION:The art book club Bookworms is open to all members of WWG.  Our next meeting will be held on Saturday\, February 8\, at 9:30 am. \n\n\n\nWe will discuss The Art of Rivalry by Sebastian Smee. Smee has chapters on four pairs of artists: Matisse and Picasso\, Manet and Degas\, Pollock and de Kooning\, and Freud and Bacon. These are all artists that were instrumental in various stages of breakthroughs in modern art. Smee emphasizes friendship as well as competition and includes lively stories about these eight artists. \n\n\n\nIf you are interested in attending Bookworms and are not already on our mailing list\, send an email to bookworms@waterloowatercolor.org in order to be added to the list for notices. We move around to the homes of different members\, so each meeting will be held at a different location. This information will be sent to you in an informational email. \n\n\n\nThere are four meetings a year: February\, April or early May\, September\, and early November. We try to avoid conflicts with holidays and summer vacations.  At each meeting we decide on the book and the exact date and location for the next meeting. \n\n\n\n\n\n\n\nLocation\n\n\n\nMember’s home\, address was given in informational email to mailing list \n\n\n\n\n\n\n\nThis event is open to all WWG members. \n\n\n\nAny Questions?\n\n\n\nPlease email the Bookworms Chair
URL:https://waterloowatercolor.org/event/bookworms-book-discussion-one-morning/
LOCATION:Texas
CATEGORIES:Meetings and Activities
ATTACH;FMTTYPE=image/png:https://waterloowatercolor.org/wp-content/uploads/2023/03/WWG_Logo.png
ORGANIZER;CN="Paula Robertson-Rose (Bookclub Chair)":MAILTO:bookworms@waterloowatercolor.org
END:VEVENT
BEGIN:VEVENT
DTSTART;TZID=UTC:20250208T100000
DTEND;TZID=UTC:20250208T163000
DTSTAMP:20260421T174844
CREATED:20250105T034318Z
LAST-MODIFIED:20251019T023037Z
UID:5539-1739008800-1739032200@waterloowatercolor.org
SUMMARY:Janet Fulk - One-Day Workshop
DESCRIPTION:Janet Fulk is presenting her Neurograph Art Workshop for us again! \n\n\n\nNeurgraphic Art is a way for the conscious mind to talk to the sub-concious mind through images. It has proven useful in easing stress and anxiety\, breaking negative thought patterns and reoccurring thoughts\, as well as\, setting intentions to change future thoughts and actions.  This was a well received and fun workshop two years ago.  Don’t miss this chance to think about art in a different way. \n\n\n\nYou only need to bring your watercolors.  Paper and pens will be provided. \n\n\n\nContact for assistance or questions oneday@waterloowatercolor.org \n\n\n\n\n\n\n\n\n\nLocation\n\n\n\nSt. Matthews Episcopal Church\, in adjacent Huffman Hall \n\n\n\n\n\n\n\n\n\n\nCost\n\n\n\n\n$60 for WWG Members\n\n\n\n$75 For Non-Members\n\n\n\n\n\n\n\n\n\n\n\n\n\n\n\nIf the tickets are sold out\, you may request to be put on the wait list by emailing oneday@waterloowatercolor.org. If a spot opens up\, the first on the list will be contacted. \n\n\n\n\n\nBuy Ticket\n\n\n\nYou must be logged in to buy a ticket. \n\n\n\nIf you don’t have an account\, you may register for a free non-member account or become a member. \n\n\n\nLogin\n\nRegister An Account\n\n\n\nIf you cant login to your account or are unsure if you already have an account. Feel free to contact our Membership Chair for assistance at membership@waterloowatercolor.org \n\n\n\n\n\n\n\n\n\n\n\nOne-Day Workshop Cancelation Policy\n\nCancellations received 30 days before the event will be fully refunded. Other last minute cancellations up to 1 week before will be refunded 50%\, if there are a minimum number of students left in the class.\n\n\n\nIf the event is cancelled by WWG or the instructor\, due to unforseen circumstances\, participants will be fully refunded.\n\n\n\n\n\n\n\n\n\n\n\n\nAny Questions?\n\n\n\nPlease email the One-Day Workshop Chair
URL:https://waterloowatercolor.org/event/janet-fulk-one-day-workshop/
LOCATION:St. Matthews Episcopal Church\, 8134 Mesa Dr.\, Austin\, Texas\, 78759\, United States
CATEGORIES:One-Day Workshop
ATTACH;FMTTYPE=image/jpeg:https://waterloowatercolor.org/wp-content/uploads/2024/12/janet.jpg
END:VEVENT
END:VCALENDAR