BEGIN:VCALENDAR
VERSION:2.0
PRODID:-//Waterloo Watercolor Group - ECPv6.15.20//NONSGML v1.0//EN
CALSCALE:GREGORIAN
METHOD:PUBLISH
X-WR-CALNAME:Waterloo Watercolor Group
X-ORIGINAL-URL:https://waterloowatercolor.org
X-WR-CALDESC:Events for Waterloo Watercolor Group
REFRESH-INTERVAL;VALUE=DURATION:PT1H
X-Robots-Tag:noindex
X-PUBLISHED-TTL:PT1H
BEGIN:VTIMEZONE
TZID:UTC
BEGIN:STANDARD
TZOFFSETFROM:+0000
TZOFFSETTO:+0000
TZNAME:UTC
DTSTART:20240101T000000
END:STANDARD
END:VTIMEZONE
BEGIN:VEVENT
DTSTART;TZID=UTC:20250518T140000
DTEND;TZID=UTC:20250518T160000
DTSTAMP:20260421T121422
CREATED:20250422T091437Z
LAST-MODIFIED:20250422T091438Z
UID:5721-1747576800-1747584000@waterloowatercolor.org
SUMMARY:Spring Social
DESCRIPTION:SPRING SOCIAL  Meet up for all WWG members for conversation and camaraderie on Sunday\, May 18\, 2025 at the Oasis on Lake Travis. Bring your sketchbook\, if you wish. Have lunch or a glass of wine and visit with other WWG members. Bring a friend! \n\n\n\nFor more info contact: \n\n\n\n\n\n(248) 631-8662
URL:https://waterloowatercolor.org/event/spring-social/
LOCATION:The Oasis\, 6550 Comanche Trail\, Austin\, Texas\, 78732
CATEGORIES:Meetings and Activities
ATTACH;FMTTYPE=image/webp:https://waterloowatercolor.org/wp-content/uploads/2025/04/image000000-108770d19d11dd671143d9c13eca17ac.webp
ORGANIZER;CN="Rashmi Thakur (President)":MAILTO:president@waterloowatercolor.org
END:VEVENT
END:VCALENDAR