BEGIN:VCALENDAR
VERSION:2.0
PRODID:-//Waterloo Watercolor Group - ECPv6.15.20//NONSGML v1.0//EN
CALSCALE:GREGORIAN
METHOD:PUBLISH
X-WR-CALNAME:Waterloo Watercolor Group
X-ORIGINAL-URL:https://waterloowatercolor.org
X-WR-CALDESC:Events for Waterloo Watercolor Group
REFRESH-INTERVAL;VALUE=DURATION:PT1H
X-Robots-Tag:noindex
X-PUBLISHED-TTL:PT1H
BEGIN:VTIMEZONE
TZID:UTC
BEGIN:STANDARD
TZOFFSETFROM:+0000
TZOFFSETTO:+0000
TZNAME:UTC
DTSTART:20250101T000000
END:STANDARD
END:VTIMEZONE
BEGIN:VEVENT
DTSTART;TZID=UTC:20260305T130000
DTEND;TZID=UTC:20260326T130000
DTSTAMP:20260420T184545
CREATED:20260116T171627Z
LAST-MODIFIED:20260222T230551Z
UID:6333-1772715600-1774530000@waterloowatercolor.org
SUMMARY:Primal Gallery - Submission Closed
DESCRIPTION:Exhibition Open Member Show for Waterloo Watercolor Group \n\n\n\nAll water media acceptable. Size limited \, will set as per entries and space.  \n\n\n\n50 paintings total: limit 2 per artist\, first come first serve. – PAINTING SLOTS ARE FULL ! \n\n\n\nContact for assistance or questions  rashmithk@gmail.com or  shows@waterloowatercolor.org \n\n\n\n\n\n\n\nCALENDAR: \n\n\n\n\nJan 25 – This call is closed \, Painting Spots Are Filled Up   \n\n\n\nFeb 15 – Entry deadline \n\n\n\nFeb 25 – All Submitted Paintings Will Be Showing \n\n\n\nMar 05 – 1:00pm  Hand deliver accepted entries \n\n\n\nMar 14 – 04:00pm  -7:00 pm  Reception  \n\n\n\nMar 26 – 1.00pm  Strike\, please arrange your own ride and pickup from the gallery in the opening hours of the Gallery. \n\n\n\n\nLocation\n\n\n\n\n\n\n\n\n\n\n\n\n\n\nSend Submission\n\n\n\nYou must be a member in to participate in non-juried shows. \n\n\n\nIf you don’t have an account\, you may register for a free non-member account or become a member. \n\n\n\nLogin\n\nRegister An Account\n\n\n\nIf you cant login to your account or are unsure if you already have an account. Feel free to contact our Membership Chair for assistance at membership@waterloowatercolor.org \n\n\n\n\n\n\n\n\nAny Questions?\n\n\n\nPlease email the Show Chair
URL:https://waterloowatercolor.org/event/open-member-show-primal-gallery/
LOCATION:Primal gallery\, 246 American Way\, Dripping Springs\, Texas\, 78620\, United States
CATEGORIES:Non-Juried Show
END:VEVENT
BEGIN:VEVENT
DTSTART;TZID=UTC:20260321T093000
DTEND;TZID=UTC:20260321T153000
DTSTAMP:20260420T184545
CREATED:20260116T162628Z
LAST-MODIFIED:20260119T190233Z
UID:6323-1774085400-1774107000@waterloowatercolor.org
SUMMARY:Watercolor Pouring: Abstract Magnolias Rashmi Thakur
DESCRIPTION:Create stunning watercolor magnolias with just three colors!  Learn the magic of pouring techniques to achieve vibrant\, effortless beauty – perfect for all skill levels. Unlock your creativity and bring your paintings to life with this fun and immersive experience. \n\n\n\nMaterials: Watercolor paper (140LB). Watercolor tube paints – any red\, yellow and blue. Masking fluid. pencils \n\n\n\n\n\n\n\n\n\nContact for assistance or questions oneday@waterloowatercolor.org \n\n\n\n\n\n\n\n\n\nLocation\n\n\n\n\n\n\n\n\n\n\nCost\n\n\n\n\n$60 for WWG Members\n\n\n\n$75 For Non-Members\n\n\n\n\n\n\n\n\n\n\n\n\n\n\n\nIf the tickets are sold out\, you may request to be put on the wait list by emailing oneday@waterloowatercolor.org. If a spot opens up\, the first on the list will be contacted. \n\n\n\n\n\nBuy Ticket\n\n\n\nYou must be logged in to buy a ticket. \n\n\n\nIf you don’t have an account\, you may register for a free non-member account or become a member. \n\n\n\nLogin\n\nRegister An Account\n\n\n\nIf you cant login to your account or are unsure if you already have an account. Feel free to contact our Membership Chair for assistance at membership@waterloowatercolor.org \n\n\n\n\n\n\n\n\n\n\n\nOne-Day Workshop Cancelation Policy\n\nCancellations received 30 days before the event will be fully refunded. Other last minute cancellations up to 1 week before will be refunded 50%\, if there are a minimum number of students left in the class.\n\n\n\nIf the event is cancelled by WWG or the instructor\, due to unforseen circumstances\, participants will be fully refunded.\n\n\n\n\n\n\n\n\n\n\n\n\nAny Questions?\n\n\n\nPlease email the One-Day Workshop Chair
URL:https://waterloowatercolor.org/event/watercolor-pouring-abstract-magnolias-rashmi-thakur/
LOCATION:St. Christopher’s Episcopal Church\, 8724 Travis Hills Dr\, Austin\, Texas\, 78735\, United States
CATEGORIES:One-Day Workshop
ATTACH;FMTTYPE=image/webp:https://waterloowatercolor.org/wp-content/uploads/2026/01/Magnolias-1-49390fe38fb25a99f198095fe3b2f029.webp
END:VEVENT
END:VCALENDAR