BEGIN:VCALENDAR
VERSION:2.0
PRODID:-//Waterloo Watercolor Group - ECPv6.15.20//NONSGML v1.0//EN
CALSCALE:GREGORIAN
METHOD:PUBLISH
X-ORIGINAL-URL:https://waterloowatercolor.org
X-WR-CALDESC:Events for Waterloo Watercolor Group
REFRESH-INTERVAL;VALUE=DURATION:PT1H
X-Robots-Tag:noindex
X-PUBLISHED-TTL:PT1H
BEGIN:VTIMEZONE
TZID:UTC
BEGIN:STANDARD
TZOFFSETFROM:+0000
TZOFFSETTO:+0000
TZNAME:UTC
DTSTART:20250101T000000
END:STANDARD
END:VTIMEZONE
BEGIN:VEVENT
DTSTART;TZID=UTC:20260419T160000
DTEND;TZID=UTC:20260419T173000
DTSTAMP:20260421T092125
CREATED:20251105T174658Z
LAST-MODIFIED:20251118T130609Z
UID:6120-1776614400-1776619800@waterloowatercolor.org
SUMMARY:Free Demo by renowned Watercolor Artist Alicia Farris
DESCRIPTION:Visiting artist Alicia Farris will demonstrate he loose and energetic style of watercolor painting in advance of the 3-day workshop. Free to the public. \n\n\n\nCome out and join the Waterloo watercolor artists  and enjoy seeing a new approach. \n\n\n\n\n\n\n\n\n\nContact for assistance or questions multiday@waterloowatercolor.org \n\n\n\n\n\n\n\n\n\nLocation\n\n\n\n\n\n\n\n\n\n \n\n\n\n\n\n\n\nAny Questions?\n\n\n\nPlease email the Multi-Day Workshop Chair
URL:https://waterloowatercolor.org/event/free-demo-by-renowned-watercolor-artist-alicia-farris/
LOCATION:St. Michael’s Episcopal Church\, 1500 North Capital of Texas Highway\, Austin\, Texas\, 78746\, United States
CATEGORIES:Meetings and Activities
ATTACH;FMTTYPE=image/jpeg:https://waterloowatercolor.org/wp-content/uploads/2025/11/Beagle-dog-animal-.jpg
END:VEVENT
BEGIN:VEVENT
DTSTART;TZID=UTC:20260420T090000
DTEND;TZID=UTC:20260422T160000
DTSTAMP:20260421T092125
CREATED:20260206T172826Z
LAST-MODIFIED:20260413T130232Z
UID:6403-1776675600-1776873600@waterloowatercolor.org
SUMMARY:3-Day Alicia Farris Workshop
DESCRIPTION:Landscapes! Animals! A mini Yupo session! Alicia Farris conducts workshops all over the world\, and now Austin\, Texas. She will teach us to use values\, brush strokes\, color choices\, and design elements to interpret and define our subjects. \n\n\n\nAlicia says what catches her eye and heart are the “essence and emotion” of her subjects. Energy and joy are apparent in all her art.  She holds signature memberships in  the National Watercolor Society\,  the Watercolor Honor Society\, and 5 other watercolor societies.  \n\n\n\n\n\n\n\n\n\nContact for assistance or questions multiday@waterloowatercolor.org \n\n\n\n\n\n\n\n\n\nLocation\n\n\n\n\n\n\n\n\n\n\nTicket Cost\n\n\n\n\n$350 for Members\n\n\n\n$400 for Guests (Non-Members)\n\n\n\n\n\n\n\n\n\n\n\n\n\n\n\nIf the tickets are sold out\, you may request to be put on the wait list by emailing multiday@waterloowatercolor.org. If a spot opens up\, the first on the list will be contacted. \n\n\n\n\nBuy Ticket\n\n\n\nYou must be logged in to buy a ticket. \n\n\n\nIf you don’t have an account\, you may register for a free non-member account or become a member. \n\n\n\nLogin\n\nRegister An Account\n\n\n\nIf you cant login to your account or are unsure if you already have an account. Feel free to contact our Membership Chair for assistance at membership@waterloowatercolor.org \n\n\n\n\n\n\n\n\n\n\nMulti-Day Workshop Cancelation Policy\n\nCancellations up to 60 days before the workshop will be refunded.\n\n\n\nCancellations within 60 days will be refunded minus a $100 cancellation/handling fee.\n\n\n\nCancellations within 30 days will be refunded 50%.\n\n\n\nCancellations 14 days or less are non-refundable.\n\n\n\nWWG reserves the right to review mitigating circumstances on a case -by – case basis.\n\n\n\nIn the event of cancellation by WWG or the instructor due to unforeseen circumstances\,\n\n\n\nfull payment will be returned to the participants.\n\n\n\n\n\n\n\n\n\n\n\n\nAny Questions?\n\n\n\nPlease email the Multi-Day Workshop Chair
URL:https://waterloowatercolor.org/event/3-day-alicia-farris-workshop-2/
CATEGORIES:Multi-Day Workshop
ATTACH;FMTTYPE=image/jpeg:https://waterloowatercolor.org/wp-content/uploads/2025/11/Augusta-Moment.jpg
END:VEVENT
END:VCALENDAR