BEGIN:VCALENDAR
VERSION:2.0
PRODID:-//Waterloo Watercolor Group - ECPv6.15.20//NONSGML v1.0//EN
CALSCALE:GREGORIAN
METHOD:PUBLISH
X-WR-CALNAME:Waterloo Watercolor Group
X-ORIGINAL-URL:https://waterloowatercolor.org
X-WR-CALDESC:Events for Waterloo Watercolor Group
REFRESH-INTERVAL;VALUE=DURATION:PT1H
X-Robots-Tag:noindex
X-PUBLISHED-TTL:PT1H
BEGIN:VTIMEZONE
TZID:UTC
BEGIN:STANDARD
TZOFFSETFROM:+0000
TZOFFSETTO:+0000
TZNAME:UTC
DTSTART:20230101T000000
END:STANDARD
END:VTIMEZONE
BEGIN:VEVENT
DTSTART;TZID=UTC:20240915T000000
DTEND;TZID=UTC:20241206T235959
DTSTAMP:20260421T210915
CREATED:20240718T012331Z
LAST-MODIFIED:20240719T203445Z
UID:4811-1726358400-1733529599@waterloowatercolor.org
SUMMARY:Healing Arts Gallery WWG Exhibit
DESCRIPTION:September 15 – Submission information due to Yingying Chen at mirthcyy@gmail.comInclude image\, title\, framed size\, artist name and phone number.October 4 – Deliver work to GalleryDecember 6 – Pick up work \n\n\n\nWaterloo will be hanging up to 30 plus pieces. You may submit up to 3.How many are accepted depends on the total submissions. Work must be “familyfriendly” for the hospital setting. The gallery produces a nice brochure featuringimages of painting. Painting size may vary but suggested sizes are an average of16×20. No commission on sold work. \n\n\n\n\n\n\n\nLocation\n\n\n\n\n\n\n\n\n\n\n\nAny Questions?\n\n\n\nPlease email the Show Chair
URL:https://waterloowatercolor.org/event/healing-arts-gallery-wwg-exhibit/
LOCATION:St. Davids Georgetown Hospital\, 2000 Scenic Dr.\, Georgetown\, Texas\, 78626\, United States
CATEGORIES:Non-Juried Show
ATTACH;FMTTYPE=image/png:https://waterloowatercolor.org/wp-content/uploads/2023/03/WWG_Logo.png
END:VEVENT
BEGIN:VEVENT
DTSTART;TZID=UTC:20241026T000000
DTEND;TZID=UTC:20250112T235959
DTSTAMP:20260421T210915
CREATED:20240718T011940Z
LAST-MODIFIED:20240719T203610Z
UID:4806-1729900800-1736726399@waterloowatercolor.org
SUMMARY:Call for Art - Texas State University
DESCRIPTION:Optional continuation of our 47th Annual Fall Show at North Hills. Artists can substitute other paintings if they desire starting October 26. Contact Helen Green for more information. \n\n\n\nDelivery and Installation – 1:30-2:30 on Sunday\, November 3.Reception – Possible date\, Sunday Nov 10.Strike – 1:00-1:30 Sunday January 12\, 2025. \n\n\n\nThis will be a joint exhibit with Capitol Arts Society. \n\n\n\nThere is free parking on the weekends and artists may pull into the circulardrive in front of the Avery building and put their flashers on to deliver and pick \n\n\n\nContact for assistance or questions shows@waterloowatercolor.org \n\n\n\n\n\n\n\nLocation\n\n\n\n\n\n\n\n\n\n\n\nAny Questions?\n\n\n\nPlease email the Show Chair
URL:https://waterloowatercolor.org/event/call-for-art-texas-state-university/
LOCATION:Texas State University\, 1555 University Blvd\, Round Rock\, Texas\, 78665\, United States
CATEGORIES:Non-Juried Show
ATTACH;FMTTYPE=image/png:https://waterloowatercolor.org/wp-content/uploads/2023/03/WWG_Logo.png
END:VEVENT
BEGIN:VEVENT
DTSTART;TZID=UTC:20241109T100000
DTEND;TZID=UTC:20241109T160000
DTSTAMP:20260421T210915
CREATED:20241002T215142Z
LAST-MODIFIED:20241003T220739Z
UID:5027-1731146400-1731168000@waterloowatercolor.org
SUMMARY:Sue Kemp – Trees\, Glorious Trees!
DESCRIPTION:Watercolor lends itself to exploring color and creating mood. We don’thave much color in central Texas\, so let’s create it! \n\n\n\n Fall trees will be our subject\, but we will also study the many nuances of green\, not straight out of the tube. Creating depth will also be our focus. \n\n\n\nSue has been teaching at The Art School of The Contemporary\, at Laguna Gloria since 2002. She is a long-time member of WWG\, and a past president. Her paintings have been included in 7 books. www.suekemp.com \n\n\n\n\n\n\n\n\n\n\n\n\n\n\n\nLocation\n\n\n\n\n\nEnter the parking lot from Steck Ave.\n\n\n\n\n\n\n\n\n\n\nCost\n\n\n\n\n$60 for WWG Members\n\n\n\n$75 For Non-Members\n\n\n\n\n\n\n\n\n\n\n\n\n\n\n\nIf the tickets are sold out\, you may request to be put on the waitlist by emailing oneday@waterloowatercolor.org. If a spot opens up\, the first on the list will be contacted. \n\n\n\n\n\nBuy Ticket\n\n\n\nYou must be logged in to buy a ticket. \n\n\n\nIf you don’t have an account\, you may register for a free non-member account or become a member. \n\n\n\nLogin\n\nRegister An Account\n\n\n\nIf you cant login to your account or are unsure if you already have an account. Feel free to contact our Membership Chair for assistance at membership@waterloowatercolor.org \n\n\n\n\n\n\n\n\n\n\n\nOne-Day Workshop Cancelation Policy\n\nCancellations received 30 days before the event will be fully refunded. Other last minute cancellations up to 1 week before will be refunded 50%\, if there are a minimum number of students left in the class.\n\n\n\nIf the event is cancelled by WWG or the instructor\, due to unforseen circumstances\, participants will be fully refunded.\n\n\n\n\n\n\n\n\n\n\n\n\nAny Questions?\n\n\n\nPlease email the One-Day Workshop Organizer
URL:https://waterloowatercolor.org/event/sue-kemp-trees-glorious-trees/
LOCATION:St. Matthews Episcopal Church\, 8134 Mesa Dr.\, Austin\, Texas\, 78759\, United States
CATEGORIES:One-Day Workshop
ATTACH;FMTTYPE=image/jpeg:https://waterloowatercolor.org/wp-content/uploads/2023/09/Sue2022.jpg
ORGANIZER;CN="Colette Sirhal (Oneday Workshop Chair)":MAILTO:oneday@waterloowatercolor.org
END:VEVENT
END:VCALENDAR